BEGIN:VCALENDAR
VERSION:2.0
PRODID:-//eventon.com NONSGML v1.0//EN
CALSCALE:GREGORIAN
METHOD:PUBLISH
BEGIN:VEVENT
UID:69e744a903c58
DTSTAMP:20260421T093433Z
DTSTART:20251202T210000Z
DTEND:20251203T024000Z
LOCATION:
SUMMARY:Fort Oglethorpe Regional Tourism Meeting
DESCRIPTION:Fort Oglethorpe Regional Tourism Meeting\nhttps://fortogov.com/
 events/fort-oglethorpe-regional-tourism-dmo/
URL:https://fortogov.com/events/fort-oglethorpe-regional-tourism-dmo/
END:VEVENT
END:VCALENDAR