BEGIN:VCALENDAR
VERSION:2.0
PRODID:-//eventon.com NONSGML v1.0//EN
CALSCALE:GREGORIAN
METHOD:PUBLISH
BEGIN:VEVENT
UID:69e7595f6b9ec
DTSTAMP:20260421T110255Z
DTSTART:20251208T230000Z
DTEND:20251209T045000Z
LOCATION:
SUMMARY:City Council Meeting
DESCRIPTION:City Council Meeting\nhttps://fortogov.com/events/city-council-
 meeting/
URL:https://fortogov.com/events/city-council-meeting/
END:VEVENT
END:VCALENDAR